BEGIN:VCALENDAR
VERSION:2.0
PRODID:-//Acreage Landowners Association - ECPv6.15.17.1//NONSGML v1.0//EN
CALSCALE:GREGORIAN
METHOD:PUBLISH
X-WR-CALNAME:Acreage Landowners Association
X-ORIGINAL-URL:https://acreagelandowners.com
X-WR-CALDESC:Events for Acreage Landowners Association
REFRESH-INTERVAL;VALUE=DURATION:PT1H
X-Robots-Tag:noindex
X-PUBLISHED-TTL:PT1H
BEGIN:VTIMEZONE
TZID:America/New_York
BEGIN:DAYLIGHT
TZOFFSETFROM:-0500
TZOFFSETTO:-0400
TZNAME:EDT
DTSTART:20240310T070000
END:DAYLIGHT
BEGIN:STANDARD
TZOFFSETFROM:-0400
TZOFFSETTO:-0500
TZNAME:EST
DTSTART:20241103T060000
END:STANDARD
BEGIN:DAYLIGHT
TZOFFSETFROM:-0500
TZOFFSETTO:-0400
TZNAME:EDT
DTSTART:20250309T070000
END:DAYLIGHT
BEGIN:STANDARD
TZOFFSETFROM:-0400
TZOFFSETTO:-0500
TZNAME:EST
DTSTART:20251102T060000
END:STANDARD
BEGIN:DAYLIGHT
TZOFFSETFROM:-0500
TZOFFSETTO:-0400
TZNAME:EDT
DTSTART:20260308T070000
END:DAYLIGHT
BEGIN:STANDARD
TZOFFSETFROM:-0400
TZOFFSETTO:-0500
TZNAME:EST
DTSTART:20261101T060000
END:STANDARD
END:VTIMEZONE
BEGIN:VEVENT
DTSTART;TZID=America/New_York:20251025T170000
DTEND;TZID=America/New_York:20251025T220000
DTSTAMP:20260422T055731
CREATED:20251001T053854Z
LAST-MODIFIED:20251025T050559Z
UID:10000049-1761411600-1761429600@acreagelandowners.com
SUMMARY:The ALA and ITID presents: A Sleepy Hallow Halloween
DESCRIPTION:The ALA and ITID presents: A Sleepy Hallow Halloween! Bring the family and enjoy an evening with the community! We will have food trucks\, vendor tents\, a Haunted Village\, Parade\, a Pet Costume Contest\, Kids/Teens costume contest and more!!! We hope to see you there! \nIf you would like to set up a vendor tent or have a food truck and would like to attend\, you may register HERE. \nVendors and food trucks registered as of 10/24/2025 can be viewed HERE. \nResidents may participate in the event several ways! \n\nSet up your own Trunk or Treat tent display\, no limit to tent space if you would like to create a walk thru haunted house! Trunk Or Treat Registration Form can be downloaded HERE\nÂ Join us in the parade leaving Citrus Grove Park and ending at Acreage Community Park! Parade Registration Form can be downloaded HERE and waiver form HERE. You need both!\nCostume contests for different age groups! Event will be coordinated at Acreage Community Park\nPet costume contest! Event will be coordinated at Acreage Community Park\n\nAgain\, if you would like to set up a vendor tent or have a food truck and would like to attend\, you may register HERE. \nLocal Businesses! Help sponsor our events and get recognized! If you would like to help sponsor and have your business advertised during the event\, you can view the sponsor packages HERE. If interested\, fill out the Sponsor Registration available HERE and email it to events@indiantrail.com. \nEvent questions can be sent to events@indiantrail.com .
URL:https://acreagelandowners.com/event/the-ala-and-itid-presents-a-sleepy-hallow-halloween/
LOCATION:Acreage Community Park\, 6701 140th Ave North\, Loxahatchee\, FL\, 33470\, United States
CATEGORIES:Community Event
ATTACH;FMTTYPE=image/jpeg:https://acreagelandowners.com/wp-content/uploads/2025/08/10-22-2025_ALA-ITID_Halloween_Sponsor_Banner_Ad.jpg
END:VEVENT
END:VCALENDAR