BEGIN:VCALENDAR
VERSION:2.0
PRODID:-//Acreage Landowners Association - ECPv6.15.17.1//NONSGML v1.0//EN
CALSCALE:GREGORIAN
METHOD:PUBLISH
X-ORIGINAL-URL:https://acreagelandowners.com
X-WR-CALDESC:Events for Acreage Landowners Association
REFRESH-INTERVAL;VALUE=DURATION:PT1H
X-Robots-Tag:noindex
X-PUBLISHED-TTL:PT1H
BEGIN:VTIMEZONE
TZID:America/New_York
BEGIN:DAYLIGHT
TZOFFSETFROM:-0500
TZOFFSETTO:-0400
TZNAME:EDT
DTSTART:20250309T070000
END:DAYLIGHT
BEGIN:STANDARD
TZOFFSETFROM:-0400
TZOFFSETTO:-0500
TZNAME:EST
DTSTART:20251102T060000
END:STANDARD
BEGIN:DAYLIGHT
TZOFFSETFROM:-0500
TZOFFSETTO:-0400
TZNAME:EDT
DTSTART:20260308T070000
END:DAYLIGHT
BEGIN:STANDARD
TZOFFSETFROM:-0400
TZOFFSETTO:-0500
TZNAME:EST
DTSTART:20261101T060000
END:STANDARD
BEGIN:DAYLIGHT
TZOFFSETFROM:-0500
TZOFFSETTO:-0400
TZNAME:EDT
DTSTART:20270314T070000
END:DAYLIGHT
BEGIN:STANDARD
TZOFFSETFROM:-0400
TZOFFSETTO:-0500
TZNAME:EST
DTSTART:20271107T060000
END:STANDARD
END:VTIMEZONE
BEGIN:VEVENT
DTSTART;TZID=America/New_York:20260211T183000
DTEND;TZID=America/New_York:20260211T200000
DTSTAMP:20260421T185933
CREATED:20260211T173833Z
LAST-MODIFIED:20260211T173833Z
UID:10000074-1770834600-1770840000@acreagelandowners.com
SUMMARY:Meet the Candidates - Presented by Western Communities of West Palm Beach Democratic Club
DESCRIPTION:About this event\nCome out and meet the candidates who will directly impact our community! With an election happening this March\, now is the perfect time to learn who is running\, hear their vision\, and understand what they bring to the table. This is your opportunity to get informed\, ask questions\, and be part of the conversation that shapes our future.\n\n\n\n\n\nScheduled to appear: \n\nBernard Taylor\nEdward O’Connor\nRudolph Tinker – Palm Beach County District 6 Candidate\nVictoria Doyle\nBobby Eugene Williams\, Jr.\nSerge D’Haiti\nDonald Persson\nErica Whitfield\n\nFor more details\, visit their web site HERE
URL:https://acreagelandowners.com/event/meet-the-candidates-presented-by-western-communities-of-west-palm-beach-democratic-club/
LOCATION:Palm Beach County Planning Division (Vista Center)\, 2300 N Jog Rd\, West Palm Beach\, FL\, 33411\, United States
CATEGORIES:Community Event
ATTACH;FMTTYPE=image/jpeg:https://acreagelandowners.com/wp-content/uploads/2026/02/Dem_Forum.jpg
END:VEVENT
BEGIN:VEVENT
DTSTART;TZID=America/New_York:20260226T173000
DTEND;TZID=America/New_York:20260226T190000
DTSTAMP:20260421T185933
CREATED:20260210T191114Z
LAST-MODIFIED:20260210T191114Z
UID:10000072-1772127000-1772132400@acreagelandowners.com
SUMMARY:FLORIDA DEPARTMENT OF TRANSPORTATION INVITES YOU TO A PUBLIC MEETING - STATE ROAD (S.R.) 7 EXTENSION PROJECT
DESCRIPTION:View full flyer here – SR7_FDOT_Meeting_Flyer
URL:https://acreagelandowners.com/event/florida-department-of-transportation-invites-you-to-a-public-meeting-state-road-s-r-7-extension-project/
LOCATION:Village of Royal Palm Beach Grand Ballroom at the Cultural Center\, 151 Civic Center Way\, Royal Palm Beach\, FL\, 33411\, United States
CATEGORIES:Community Event
ATTACH;FMTTYPE=image/png:https://acreagelandowners.com/wp-content/uploads/2026/02/fdot-logo-color.png
ORGANIZER;CN="Florida Dept of Transportation":MAILTO:https://www.fdot.gov/agencyresources/contactus.shtm
END:VEVENT
END:VCALENDAR