BEGIN:VCALENDAR
VERSION:2.0
PRODID:-//Acreage Landowners Association - ECPv6.15.17.1//NONSGML v1.0//EN
CALSCALE:GREGORIAN
METHOD:PUBLISH
X-ORIGINAL-URL:https://acreagelandowners.com
X-WR-CALDESC:Events for Acreage Landowners Association
REFRESH-INTERVAL;VALUE=DURATION:PT1H
X-Robots-Tag:noindex
X-PUBLISHED-TTL:PT1H
BEGIN:VTIMEZONE
TZID:America/New_York
BEGIN:DAYLIGHT
TZOFFSETFROM:-0500
TZOFFSETTO:-0400
TZNAME:EDT
DTSTART:20240310T070000
END:DAYLIGHT
BEGIN:STANDARD
TZOFFSETFROM:-0400
TZOFFSETTO:-0500
TZNAME:EST
DTSTART:20241103T060000
END:STANDARD
BEGIN:DAYLIGHT
TZOFFSETFROM:-0500
TZOFFSETTO:-0400
TZNAME:EDT
DTSTART:20250309T070000
END:DAYLIGHT
BEGIN:STANDARD
TZOFFSETFROM:-0400
TZOFFSETTO:-0500
TZNAME:EST
DTSTART:20251102T060000
END:STANDARD
BEGIN:DAYLIGHT
TZOFFSETFROM:-0500
TZOFFSETTO:-0400
TZNAME:EDT
DTSTART:20260308T070000
END:DAYLIGHT
BEGIN:STANDARD
TZOFFSETFROM:-0400
TZOFFSETTO:-0500
TZNAME:EST
DTSTART:20261101T060000
END:STANDARD
END:VTIMEZONE
BEGIN:VEVENT
DTSTART;TZID=America/New_York:20250717T180000
DTEND;TZID=America/New_York:20250717T203000
DTSTAMP:20260422T184938
CREATED:20250711T023832Z
LAST-MODIFIED:20250711T023832Z
UID:10000025-1752775200-1752784200@acreagelandowners.com
SUMMARY:NOTICE OF PUBLIC MEETING - West End Crossing 07-17-25 @ 6 PM - Acreage Library
DESCRIPTION:The Merchant Strategy team will be holding a public meeting regarding the proposed 7-Eleven gas station and additional commercial buildings on the SE corner of Northlake Blvd and Seminole Pratt Whitney Blvd. It will be held at the Acreage Branch Library on July 17th\, 2025 at 6 PM. The address is 15800 Orange Blvd\, Loxahatchee\, FL 33470. (behind the Publix Plaza). \n“Representatives will be available to provide project details\, answer questions\, and listen to feedback from the community. Your participation is important to help guide the development of this project.” \nAttendance at both this meeting and the County BCC meeting on 07/24/2025 is highly encouraged. Be sure to mark this on your calendar. You can view the upcoming meeting dates by clicking EVENTS at the top of this page.
URL:https://acreagelandowners.com/event/notice-of-public-meeting-west-end-crossing-07-17-25-6-pm-acreage-library/
LOCATION:Acreage Branch Library\, 15800 Orange Blvd\, Loxahatchee\, FL\, 33470\, United States
CATEGORIES:Community Event
END:VEVENT
END:VCALENDAR