BEGIN:VCALENDAR
VERSION:2.0
PRODID:-//Acreage Landowners Association - ECPv6.15.17.1//NONSGML v1.0//EN
CALSCALE:GREGORIAN
METHOD:PUBLISH
X-WR-CALNAME:Acreage Landowners Association
X-ORIGINAL-URL:https://acreagelandowners.com
X-WR-CALDESC:Events for Acreage Landowners Association
REFRESH-INTERVAL;VALUE=DURATION:PT1H
X-Robots-Tag:noindex
X-PUBLISHED-TTL:PT1H
BEGIN:VTIMEZONE
TZID:America/New_York
BEGIN:DAYLIGHT
TZOFFSETFROM:-0500
TZOFFSETTO:-0400
TZNAME:EDT
DTSTART:20240310T070000
END:DAYLIGHT
BEGIN:STANDARD
TZOFFSETFROM:-0400
TZOFFSETTO:-0500
TZNAME:EST
DTSTART:20241103T060000
END:STANDARD
BEGIN:DAYLIGHT
TZOFFSETFROM:-0500
TZOFFSETTO:-0400
TZNAME:EDT
DTSTART:20250309T070000
END:DAYLIGHT
BEGIN:STANDARD
TZOFFSETFROM:-0400
TZOFFSETTO:-0500
TZNAME:EST
DTSTART:20251102T060000
END:STANDARD
BEGIN:DAYLIGHT
TZOFFSETFROM:-0500
TZOFFSETTO:-0400
TZNAME:EDT
DTSTART:20260308T070000
END:DAYLIGHT
BEGIN:STANDARD
TZOFFSETFROM:-0400
TZOFFSETTO:-0500
TZNAME:EST
DTSTART:20261101T060000
END:STANDARD
END:VTIMEZONE
BEGIN:VEVENT
DTSTART;TZID=America/New_York:20250205T093000
DTEND;TZID=America/New_York:20250205T170000
DTSTAMP:20260420T133033
CREATED:20250204T040028Z
LAST-MODIFIED:20250327T041908Z
UID:10000014-1738747800-1738774800@acreagelandowners.com
SUMMARY:PBC BCC Planning Meeting - West End Crossing on the agenda
DESCRIPTION:URGENT: Western Community Residents! Call to action! \nThe Palm Beach County Planning Department will hold a meeting on February 5\, 2025\, at 9:30 AM regarding the proposed â€œWest End Crossingâ€ development. This includes a 7-Eleven\, commercial office space\, and a drive-through fast-food chain at the southeast corner of Northlake Blvd and Seminole Pratt Whitney Blvd. \nOn January 10\, 2025\, the Zoning Department denied the request for several reasons\, notably because the project does not align with the Acreage Neighborhood Plan. It was voted down 8-4. However\, there were only 2 residents present to voice their concerns\, which may suggest to others that there is little opposition to this development. \nWe need as many residents as possible to attend the meeting. The meeting will be held at the BCC Chambers\, 6th Floor\, Jane M. Thompson Memorial Chambers\, 301 N. Olive Ave\, West Palm Beach\, FL 33401 at 9:30 AM. \nIf you cannot attend\, please complete the petition to express your disapproval of the project to both the Planning Staff and the County Commissioners. The petition includes items of concern and the actual letter can be viewed before submission. \nPetition Link: https://acreagelandowners.org/?page_id=71752 \nAgenda Link: Agenda Item 4.C.1 \nThank you for your attention and action on this important issue. To view the actual petition\, click on the READ THE PETITION. \nBest regards\, \nBob Morgan\, President\nAcreage Landowners Association\nhttp://www.acreagelandowners.com
URL:https://acreagelandowners.com/event/pbc-bcc-planning-meeting-west-end-crossing-on-the-agenda/
LOCATION:FL
CATEGORIES:PBC Planning Meeting
END:VEVENT
BEGIN:VEVENT
DTSTART;TZID=America/New_York:20250227T093000
DTEND;TZID=America/New_York:20250227T170000
DTSTAMP:20260420T133033
CREATED:20250227T062025Z
LAST-MODIFIED:20250327T041907Z
UID:10000016-1740648600-1740675600@acreagelandowners.com
SUMMARY:BOARD OF COUNTY COMMISSIONERS ZONING HEARING Thursday\, February 27\, 2025 9 AM
DESCRIPTION:BOARD OF COUNTY COMMISSIONERS ZONING HEARING Thursday\, February 27\, 2025 9:30 A.M. BCC Chambers 6th Floor\, Jane M. Thompson Memorial Chambers 301 N. Olive Avenue\, West Palm Beach\, FL 33401 \nItems that concern our area are Regular Agenda items 12\, 13\, 14\, and possibly 17 & 20. Agenda document can be viewed here. 2025Feb27-BCCAgenda \nYou can attend the meeting in person or view the live stream at the “WEBSITE” link below or at https://discover.pbc.gov/pages/ch20live.aspx
URL:https://acreagelandowners.com/event/board-of-county-commissioners-zoning-hearing-thursday-february-27-2025-9-am/
LOCATION:FL
CATEGORIES:PBC Zoning Meeting
END:VEVENT
END:VCALENDAR