BEGIN:VCALENDAR
VERSION:2.0
PRODID:-//Acreage Landowners Association - ECPv6.15.17.1//NONSGML v1.0//EN
CALSCALE:GREGORIAN
METHOD:PUBLISH
X-ORIGINAL-URL:https://acreagelandowners.com
X-WR-CALDESC:Events for Acreage Landowners Association
REFRESH-INTERVAL;VALUE=DURATION:PT1H
X-Robots-Tag:noindex
X-PUBLISHED-TTL:PT1H
BEGIN:VTIMEZONE
TZID:America/New_York
BEGIN:DAYLIGHT
TZOFFSETFROM:-0500
TZOFFSETTO:-0400
TZNAME:EDT
DTSTART:20240310T070000
END:DAYLIGHT
BEGIN:STANDARD
TZOFFSETFROM:-0400
TZOFFSETTO:-0500
TZNAME:EST
DTSTART:20241103T060000
END:STANDARD
BEGIN:DAYLIGHT
TZOFFSETFROM:-0500
TZOFFSETTO:-0400
TZNAME:EDT
DTSTART:20250309T070000
END:DAYLIGHT
BEGIN:STANDARD
TZOFFSETFROM:-0400
TZOFFSETTO:-0500
TZNAME:EST
DTSTART:20251102T060000
END:STANDARD
BEGIN:DAYLIGHT
TZOFFSETFROM:-0500
TZOFFSETTO:-0400
TZNAME:EDT
DTSTART:20260308T070000
END:DAYLIGHT
BEGIN:STANDARD
TZOFFSETFROM:-0400
TZOFFSETTO:-0500
TZNAME:EST
DTSTART:20261101T060000
END:STANDARD
END:VTIMEZONE
BEGIN:VEVENT
DTSTART;VALUE=DATE:20250617
DTEND;VALUE=DATE:20250618
DTSTAMP:20260420T084037
CREATED:20250610T151451Z
LAST-MODIFIED:20250610T151633Z
UID:10000023-1750118400-1750204799@acreagelandowners.com
SUMMARY:PBC BCC Workshop to interview and hire a new County Administrator
DESCRIPTION:The PBC BCC’s will hold a workshop on Tuesday June 17 at 9:30 A.M. in the Jane Thompson Memorial Chambers at the Governmental Center. In this workshop\, the commissioners will publicly question the candidates with a goal of selecting a new administrator by the end of the meeting. Information about the candidates can be foundÂ here. \nThis workshop will be broadcast live on PBC TV Channel 20 and streaming online at www.pbc.gov.
URL:https://acreagelandowners.com/event/pbc-bcc-workshop-to-interview-and-hire-a-new-county-administrator/
LOCATION:BCC Chambers\, 6th Floor\, Jane M. Thompson Memorial Chambers\, 301 N. Olive Ave\, West Palm Beach\, FL\, 33401\, United States
CATEGORIES:PBC BCC Workshop
END:VEVENT
END:VCALENDAR